BEGIN:VCALENDAR
VERSION:2.0
PRODID:icalendar-ruby
CALSCALE:GREGORIAN
METHOD:PUBLISH
BEGIN:VEVENT
DTSTAMP:20260422T162301Z
UID:488-1271465@sovlutheran.org
DTSTART:20260512T200000Z
DTEND:20260512T210000Z
CLASS:PUBLIC
CREATED:20260420T115610
DESCRIPTION:Lunch with Love \nLunch with Love happens at Noon\, Tuesdays in
  April. \nThe current schedule:\nApril 14 - Learn games! Perhaps cribbage
 \, Mah Jong\, others?\nApril 21 - Mark and Andy Peterson will introduce us
  to New Zealand and share about the time they lived there. \nApril 28 - K
 ristin &amp\; Wendy talk about spring planting\nMay - tba\n \n 
LAST-MODIFIED:20260420T115610
LOCATION:SOV
SUMMARY:Lunch with Love
URL;VALUE=URI:https://www.sovlutheran.org/events/lunch-with-love/2026-05-12
ATTACH;FILENAME=hearts_29277c.jpg;FMTTYPE=image/jpeg:https://dq5pwpg1q8ru0.
 cloudfront.net/2025/09/01/21/17/21/fefd79a6-d824-415a-9174-0fb4b65e58d2/he
 arts_29277c.jpg
END:VEVENT
END:VCALENDAR
